BEGIN:VCALENDAR
VERSION:2.0
PRODID:-//Vizify Analytics - ECPv6.15.3//NONSGML v1.0//EN
CALSCALE:GREGORIAN
METHOD:PUBLISH
X-ORIGINAL-URL:https://unify.vizify.co.uk
X-WR-CALDESC:Events for Vizify Analytics
REFRESH-INTERVAL;VALUE=DURATION:PT1H
X-Robots-Tag:noindex
X-PUBLISHED-TTL:PT1H
BEGIN:VTIMEZONE
TZID:UTC
BEGIN:STANDARD
TZOFFSETFROM:+0000
TZOFFSETTO:+0000
TZNAME:UTC
DTSTART:20240101T000000
END:STANDARD
END:VTIMEZONE
BEGIN:VEVENT
DTSTART;VALUE=DATE:20241127
DTEND;VALUE=DATE:20241129
DTSTAMP:20260421T090015
CREATED:20241127T154310Z
LAST-MODIFIED:20241127T154310Z
UID:18613-1732665600-1732838399@unify.vizify.co.uk
SUMMARY:AI World Congress 2024
DESCRIPTION:AI World Congress 2024 \nDescription: The event features insightful talks\, panel discussions\, and networking opportunities with industry leaders\, offering actionable insights into AI’s role in transforming business operations. \nWe are joining our data partner Facts and Dimensions Limited as exhibitors. Visit our joint stand.
URL:https://unify.vizify.co.uk/event/ai-world-congress-2024/
LOCATION:London
END:VEVENT
END:VCALENDAR